BEGIN:VCALENDAR
VERSION:2.0
PRODID:-//wp-events-plugin.com//7.2.3.1//EN
TZID:Europe/Berlin
X-WR-TIMEZONE:Europe/Berlin
BEGIN:VEVENT
UID:654@vtad.de
DTSTART;TZID=Europe/Berlin:20230315T183000
DTEND;TZID=Europe/Berlin:20230315T210000
DTSTAMP:20230121T164937Z
URL:https://www.vtad.de/rgt/technische-analyse-von-mitgliedern-fuer-mitgli
 eder-workshop/
SUMMARY:Technische Analyse von Mitgliedern für Mitglieder (Workshop)
DESCRIPTION:In unserem beliebten Workshop möchten wir wieder mit Ihnen gem
 einsam die aktuelle Lage verschiedener Märkte mit Hilfe der technischen A
 nalyse beleuchten. Dazu ist IHRE aktive Mitarbeit erforderlich\, denn welc
 he Werte untersucht werden\, bestimmen alleine Sie! Das kann ein Index\, e
 ine Aktie\, ein Rohstoff\, ein Währungspaar\, ein Optionsschein\, ein ETF
 \,… sein. Vielleicht haben Sie eine interessante Aktie seit einiger Zeit
  auf Ihrer Watchlist und möchten gerne wissen\, ob ein Einstieg (long ode
 r short) aus technischer Sicht aussichtsreich erscheint? Sehen Sie in eine
 m Währungschart eine interessante Formation oder hat ein Indikator für e
 inen Rohstoff ein Verkaufssignal generiert\, Sie sind sich aber nicht sich
 er\, wie dieses Signal zu bewerten ist?\nBringen Sie Ihre Trading-Idee ein
 fach mit und schildern Sie uns Ihre persönliche Meinung dazu! Ralf Fayad 
 wird am Laptop den Chart Ihres Wertes aufrufen\, gemeinsam mit dem Auditor
 ium werden wir über das Chartbild\, Indikatoren usw. diskutieren und vers
 uchen\, eine technische Analyse zu erstellen. Gerne können Sie uns Ihre I
 dee auch vorab per Mail schicken: rm.nuernberg@vtad.de\nWir wünschen uns 
 eine abwechslungsreiche Diskussion mit Ihnen gemeinsam\, in der die prakti
 sche Anwendung der technischen Analyse im Mittelpunkt stehen soll. Aus die
 sem Grunde möchten wir Sie bitten\, sich als Vorbereitung daheim ein paar
  Notizen zu Ihren Trading-Ideen zu machen und diese zur Diskussion mitzubr
 ingen\, da wir den Abend nicht als eine reine „Zuruf“-Analyse verlaufe
 n lassen möchten.\nBitte haben Sie Verständnis dafür\, wenn Exoten\, de
 r eine oder andere Pennystock oder ein außergewöhnlicher Index unter Ums
 tänden nicht analysiert werden kann\, wenn ausgerechnet dieser Wert nicht
  in der Datenbank der Chartsoftware enthalten ist.\nWir freuen uns auf ein
 en spannenden und abwechslungsreichen Abend!\nHinweis: der ursprünglich f
 ür diesen Abend geplante Vortrag mit Thomas Meyer-zu-Drewer wird auf eine
 n späteren Termin verschoben !\nIhr Referent:\nDer gelernte Jurist Ralf F
 ayad beschäftigt sich seit Mitte der Neunziger Jahre intensiv mit der Tec
 hnischen Analyse. Zunächst als Trader im Eigenhandel und seit 2005 als fr
 eiberuflicher Wirtschaftsjournalist und Autor mehrerer täglich erscheinen
 der Trading-Newsletter für diverse Finanzinstitute weltweit. Seit 2011 sc
 hreibt der zertifizierte Technische Analyst (CFTe) unter anderem den tägl
 ich erscheinenden Trading-Newsletter der Commerzbank „ideas daily“. Da
 neben ist Herr Fayad in der Vereinigung Technischer Analysten Deutschlands
  (VTAD) als stellvertretender Regionalmanager und Ausbildungsbeauftragter 
 der Regionalgruppe Nürnberg aktiv. Er gehört zudem regelmäßig zum Refe
 rentenkreis auf der VTAD-Frühjahrskonferenz und verschiedenen Börsentage
 n. In Vorträgen\, Seminaren\, Webinaren\, Workshops und als Trading-Mento
 r/Trading-Coach gibt er sein Wissen und seine langjährigen Erfahrungen an
  angehende Trader weiter.
CATEGORIES:Nürnberg
LOCATION:eckstein haus der evang.-luth. kirche nürnberg
X-APPLE-STRUCTURED-LOCATION;VALUE=URI;X-ADDRESS=Burgstrasse 1-3\, Raum 1.01
 \, Nürnberg\, 90403 \, Bayern\, Deutschland;X-APPLE-RADIUS=100;X-TITLE=ec
 kstein haus der evang.-luth. kirche nürnberg:geo:0,0
END:VEVENT
BEGIN:VTIMEZONE
TZID:Europe/Berlin
X-LIC-LOCATION:Europe/Berlin
BEGIN:STANDARD
DTSTART:20221030T020000
TZOFFSETFROM:+0200
TZOFFSETTO:+0100
TZNAME:CET
END:STANDARD
END:VTIMEZONE
END:VCALENDAR