BEGIN:VCALENDAR
VERSION:2.0
PRODID:-//wp-events-plugin.com//7.2.3.1//EN
TZID:Europe/Berlin
X-WR-TIMEZONE:Europe/Berlin
BEGIN:VEVENT
UID:765@vtad.de
DTSTART;TZID=Europe/Berlin:20240417T183000
DTEND;TZID=Europe/Berlin:20240417T210000
DTSTAMP:20240419T190043Z
URL:https://www.vtad.de/rgt/thema-folgt-15/
SUMMARY:Portfolio von Handelsstrategien für faule Trader
DESCRIPTION:Vortragsunterlagen (bitte einloggen): [members_logged_in] Portf
 olio von Handelsstrategien Apr 2024[/members_logged_in]\n\nPrivatinvestore
 n und Trader sind oft zu stark auf einzelne Handelsstrategien fokussiert. 
 Dabei kann eine Diversifikation in mehrere Strategien dazu beitragen\, das
  Risiko zu streuen und potenzielle\, unerwünschte Auswirkungen jeder einz
 elnen Strategie auf das Gesamtportfolio zu reduzieren. Ist das Risiko für
  hohe Verluste minimiert\, erhöht sich das Potenzial für langfristiges W
 achstum des Portfolios. Wie das ganz einfach und ohne großen Aufwand in d
 er Praxis funktionieren kann\,  wird in diesem Vortrag gezeigt.\n\nIhr Re
 ferent: Herr Dr. Vassil Lolov ist Privatinvestor und Trader mit mehr als 2
 0 Jahre Börsenerfahrung.\n\n&nbsp\;
CATEGORIES:Nürnberg
LOCATION:eckstein haus der evang.-luth. kirche nürnberg
X-APPLE-STRUCTURED-LOCATION;VALUE=URI;X-ADDRESS=Burgstrasse 1-3\, Raum 1.01
 \, Nürnberg\, 90403 \, Bayern\, Deutschland;X-APPLE-RADIUS=100;X-TITLE=ec
 kstein haus der evang.-luth. kirche nürnberg:geo:0,0
END:VEVENT
BEGIN:VTIMEZONE
TZID:Europe/Berlin
X-LIC-LOCATION:Europe/Berlin
BEGIN:DAYLIGHT
DTSTART:20240331T030000
TZOFFSETFROM:+0100
TZOFFSETTO:+0200
TZNAME:CEST
END:DAYLIGHT
END:VTIMEZONE
END:VCALENDAR