BEGIN:VCALENDAR
VERSION:2.0
PRODID:-//wp-events-plugin.com//7.2.3.1//EN
TZID:Europe/Berlin
X-WR-TIMEZONE:Europe/Berlin
BEGIN:VEVENT
UID:767@vtad.de
DTSTART;TZID=Europe/Berlin:20241016T183000
DTEND;TZID=Europe/Berlin:20241016T210000
DTSTAMP:20241017T143142Z
URL:https://www.vtad.de/rgt/thema-folgt-18/
SUMMARY:Professionelles Stillhalten mit US-Aktien-Optionen
DESCRIPTION:Stillhalten nach dem EVU-Prinzip: Konsistent mit dem Verkauf vo
 n US-Aktien-Optionen Geld verdienen! \nVortragsunterlagen (bitte einloggen
 !):  [members_logged_in] DAS EVU-Prinzip_2023_VTAD_Nuernb 2024_FINAL[/mem
 bers_logged_in]\n\nDer Verkauf von Optionen ist lukrativ\, keine Frage. Um
  professionelle Stillhalten zu meistern\, braucht es allerdings das nötig
 e Hintergrundwissen. Genau das wird in diesem Vertrag erklärt: • Was is
 t das benötigte Startkapital? • Mit welchem Broker kann man handeln? 
 • Welche Märkte soll man überhaupt handeln? • Was kann man als Hande
 lsergebnis erwarten? Thomas Bopp gibt die Antworten und stellt einen Teil 
 seiner zwölf Strategien vor\, mit denen er die idealen Handelskandidaten 
 täglich ausfindig machen kann.\n\nKaum ein Trader ist so lange am Markt u
 nd derart routiniert wie Thomas Bopp. Jahrzehnte lange Börsenerfahrung\, 
 einzigartige Kontakte zu Herstellern von hochwertiger Trading-Software (Ca
 ptimizer\, AgenaTrader\, TAI-PAN und andere) sowie eine stoische Ruhe\, di
 e nichts erschüttern kann – so könnte man ihn beschreiben.\n\nThomas B
 opp ist seit über 35 Jahren überzeugter Charttechniker. Bekannt ist er d
 urch seine unzähligen Knowhow-Artikel über verschiedene Anlagestrategien
 \, die er im TRADERS-Magazin veröffentlicht hat.\n\nUnter anderem hat Tho
 mas Bopp ein 70-teiliges Charttechnik-Training für die Internetseite der 
 Frankfurter Allgemeinen Zeitung verfasst. Auch findet man mehr als 200 Vid
 eo-Analysen auf YouTube\, die zum Teil schon Seminar-Charakter haben. Aktu
 ell betreut er zwei Börsenbriefe\, schreibt für die Hersteller der Taipa
 n-Börsensoftware einen längeren semi-monatlichen Newsletter und über de
 n YouTube-Kanal der gleichen Firma legt er seine Meinung zum DAX und versc
 hiedene Strategien der Börse in „Bopp´s Börsenecke“ dar. Die zweite
  Ausgabe jeden Monats ist dem DAX und dem Verkauf von Optionen am US-Aktie
 nmarkt vorbehalten. Seit März 2023 betreut er bei den Experten vom „Opt
 ionsuniversum“ einen eigenen Live-Options-Room\, in dem seine Trades zei
 gt und kommentiert. Thomas Bopp ist langjähriges Mittglied der VTAD und g
 erngesehener Referent in den Regionalgruppen.
CATEGORIES:Nürnberg
LOCATION:eckstein haus der evang.-luth. kirche nürnberg
X-APPLE-STRUCTURED-LOCATION;VALUE=URI;X-ADDRESS=Burgstrasse 1-3\, Raum 1.01
 \, Nürnberg\, 90403 \, Bayern\, Deutschland;X-APPLE-RADIUS=100;X-TITLE=ec
 kstein haus der evang.-luth. kirche nürnberg:geo:0,0
END:VEVENT
BEGIN:VTIMEZONE
TZID:Europe/Berlin
X-LIC-LOCATION:Europe/Berlin
BEGIN:DAYLIGHT
DTSTART:20240331T030000
TZOFFSETFROM:+0100
TZOFFSETTO:+0200
TZNAME:CEST
END:DAYLIGHT
END:VTIMEZONE
END:VCALENDAR