BEGIN:VCALENDAR
VERSION:2.0
PRODID:-//wp-events-plugin.com//7.2.3.1//EN
TZID:Europe/Berlin
X-WR-TIMEZONE:Europe/Berlin
BEGIN:VEVENT
UID:399@vtad.de
DTSTART;TZID=Europe/Berlin:20210909T183000
DTEND;TZID=Europe/Berlin:20210909T210000
DTSTAMP:20210907T110903Z
URL:https://www.vtad.de/rgt/thema-folgt-5/
SUMMARY:+++ABGESAGT+++ Ichimoku Kinko Hyo – Warum kompliziert\, wenn es a
 uch einfach geht?
DESCRIPTION:+++ DIE VERANSTALTUNG WURDE ABGESAGT ! +++\n\nIchimoku Kinko Hy
 o – Warum kompliziert\, wenn es auch einfach geht?\n\nIchimoku Kinko Hyo
  bedeutet frei übersetzt „Alles auf einen Blick“. Es ist eine Methode
  der technischen Analyse\, welche für die meisten Marktteilnehmer ein Buc
 h mit 7 Siegeln zu sein scheint.\n\nDer Referent nutzt dieses japanische T
 rendfolgesystem für seine Investments seit mehreren Jahren und er weist d
 arauf hin\, dass er mit den Ichimoku-Indikatoren Kursverläufe mit hoher W
 ahrscheinlichkeit vorherberechnen kann.\n\nIn dieser VTAD-Veranstaltung de
 r Regionalgruppe Nürnberg stellt der Referent die Ichimoku-Indikatoren vo
 r und wird an Hand der Indikatoren Aussagen zukünftiger Kursverläufe pr
 äsentieren\, welche aus eigenen Aktien-Beispielen\, aber auch gern aus Wu
 nsch-Aktien der Vortragsteilnehmer\, bestehen.\n\nWunschkandidaten zur Ana
 lyse bitten wir bis spätestens 03.09.2021 an die bekannte Mailadresse rm.
 nuernberg@vtad.de zu senden\, damit wir diese an den Referenten zwecks Vor
 bereitung weiterleiten können.\n\nÜber den Referenten\n\nDer Referent U
 we Troche ist als Privatinvestor tätig und gründete im Jahre 2013 den b
 undesweit tätigen Informationsdienst: „Simpel-Invest “(www.simpel-inv
 est.de). Hier lässt er seine Kunden an seinen Investmententscheidungen mi
 ttels live gehandelter Musterdepots praktisch teilhaben\, gemäß dem Mott
 o: „Sehen heißt glauben.“\n\nBitte beachten Sie:\n\n 	Teilnahme für 
 Mitglieder (!) und Nicht-Mitglieder nur nach vorheriger Anmeldung per Mai
 l an: rm.nuernberg@vtad.de\n 	Anmeldung mit Vorname\, Nachname und Telefo
 nnummer oder kompletter Anschrift erbeten bis spätestens 03.09.2021.\n 	M
 ax. Teilnehmerzahl 35 Personen\n 	Einlass ab 17:45h\, ab 18:30h ist kein E
 inlass mehr möglich\, wir bitten um pünktliches Erscheinen!\n\nDie Plä
 tze werden gemäß des zeitlichen Einganges der Anmeldungen in unser Postf
 ach vergeben.\n\nCOVID-19-Hinweise\nWir verweisen ausdrücklich auf die ak
 tuellen Corona-Regeln der bayerischen Landesregierung und des Hygienekonze
 ptes unseres Vermieters\, die unter\n\nwww.stmgp.bayern.de/coronavirus/rec
 htsgrundlagen/ und\n\nwww.eckstein-evangelisch.de/veranstaltungen/startse
 ite.html\n\neinzusehen und strikt einzuhalten sind.\n\nAufgrund einer Inzi
 denz über 35 in Nürnberg (Stadt)\, besteht für eine Teilnahme die Nachw
 eispflicht eines Negativtests (Schnelltest max. 24h alt\, PCR-Test max. 48
 h alt)\, einer Impfung oder Genesung (3G-Regel). Bei Nicht-Vorhandensein e
 ines Nachweises ist eine Teilnahme NICHT möglich. Auch ein vor der Verans
 taltung unter Aufsicht des Veranstalters durchgeführter Schnelltest ist z
 ulässig. In diesem Fall bitten wir die Teilnehmer ihren Schnelltest selbe
 r mitzubringen\, da wir als Veranstalter aus organisatorischen Gründen ke
 ine Tests-Kits zur Verfügung stellen können.\n\nMit der Anmeldung zur Ve
 ranstaltung bestätigt jede(r) Teilnehmer(in)\, die o.g. geltenden Corona-
 Regeln zur Kenntnis genommen zu haben und am Veranstaltungsabend einzuhalt
 en.\n\n&nbsp\;
CATEGORIES:Nürnberg
END:VEVENT
BEGIN:VTIMEZONE
TZID:Europe/Berlin
X-LIC-LOCATION:Europe/Berlin
BEGIN:DAYLIGHT
DTSTART:20210328T030000
TZOFFSETFROM:+0100
TZOFFSETTO:+0200
TZNAME:CEST
END:DAYLIGHT
END:VTIMEZONE
END:VCALENDAR