BEGIN:VCALENDAR
VERSION:2.0
PRODID:-//wp-events-plugin.com//7.2.3.1//EN
TZID:Europe/Berlin
X-WR-TIMEZONE:Europe/Berlin
BEGIN:VEVENT
UID:400@vtad.de
DTSTART;TZID=Europe/Berlin:20211014T183000
DTEND;TZID=Europe/Berlin:20211014T210000
DTSTAMP:20211020T154743Z
URL:https://www.vtad.de/rgt/thema-folgt-6/
SUMMARY:Endspurt 2021
DESCRIPTION:Vortragsunterlagen (für Mitglieder: zum Download der Vortragsu
 nterlagen bitte einloggen):\n\n[members_logged_in] 20211014_VTAD_Nürnber
 g [/members_logged_in]\n\n[members_logged_in] Vortrag_Aktienbewertung_2011
 014_VTAD_Nürnberg [/members_logged_in]\n\nEndspurt 2021\n\nCorona ist an 
 der Börse fast abgehakt\, Einzelaktien rücken zur nächsten Quartalssais
 on in den Fokus der Anleger. Welche Titel sind gefragt und wie lassen sich
  aussichtsreiche Aktien finden? Benjamin Feingold von Feingold Research (w
 ww.feingold-research.com) stellt am heutigen Vortragsabend in der Regional
 gruppe Nürnberg seine Vorgehensweise und seine aktuellen Favoriten vor.\n
 \nDer Referent:\n\nBenjamin Feingold ist aus seiner langjährigen Tätigke
 it als Redakteur beim Börsenmagazin „Börse Online“ und der Wirtschaf
 tszeitung „Financial Times Deutschland“ bundesweit bekannt. In der Fin
 ancial Community nutzen zahlreiche Anleger sein Tradinghandbuch „Handeln
  mit Futures und Optionen – Ein Leitfaden für den Privatanleger“ (ver
 legt im Finanzbuchverlag) als Leitfaden für den Einsatz von Futures\, Opt
 ionen und anderen Instrumenten. Mehr als 20 Jahre Börsenerfahrung und Exp
 ertenwissen tragen zu seinem Renomee bei.\n\nNach seinem BWL-Studium mit d
 en Schwerpunkten Bankbetriebslehre sowie Internationales Management an der
  Universität Hamburg und Abschluss als Diplom-Kaufmann arbeitete er bei v
 erschiedenen Banken im Handel und Research. Noch während seines Studiums 
 sammelte er erste Erfahrungen an der Börse. Einschneidend war ein heftige
 r Verlust mit einem Commerzbank-Optionsschein 1986 nach dem Atomkraftunfal
 l in Tschernobyl. Zu seinen ersten Berufserfahrungen gehörte der live im 
 Devisenhandel miterlebte Kurssturz des britischen Pfundes\, das von Hedgef
 ondsmanager George Soros in die Knie gezwungen wurde.\n\nBitte beachten Si
 e:\n\n 	Teilnahme für Mitglieder (!) und Nicht-Mitglieder nur nach vorher
 iger Anmeldung per Mail an: rm.nuernberg@vtad.de \, Anmeldeschluß verlän
 gert bis 12.10.2021\, 24:00h\n 	Anmeldung für Gäste (Nicht-Mitglieder) m
 it Vorname\, Nachname und Telefonnummer oder kompletter Anschrift\, bei Mi
 tgliedern genügt die Angabe der Mitgliedsnummer.\n 	Max. Teilnehmerzahl 3
 5 Personen. Die Veranstaltung findet statt\, es sind noch einige Plätze f
 rei!\n 	Einlass ab 17:45h\, ab 18:30h ist kein Einlass mehr möglich\, wir
  bitten um pünktliches Erscheinen!\n\nDie Plätze werden gemäß des zeit
 lichen Einganges der Anmeldungen in unser Postfach vergeben.\n\nCOVID-19-H
 inweise\nWir verweisen ausdrücklich auf die aktuellen Corona-Regeln der b
 ayerischen Landesregierung und des Hygienekonzeptes unseres Vermieters\, d
 ie unter\n\nwww.stmgp.bayern.de/coronavirus/rechtsgrundlagen/ und\n\nwww.e
 ckstein-evangelisch.de/veranstaltungen/startseite.html\n\neinzusehen und s
 trikt einzuhalten sind.\n\nFür eine Teilnahme besteht die Nachweispflicht
  eines Negativtests (Schnelltest max. 24h alt\, PCR-Test max. 48h alt)\, e
 iner Impfung oder Genesung (3G-Regel). Bei Nicht-Vorhandensein eines Nachw
 eises ist eine Teilnahme NICHT möglich.\n\nAuch ein vor der Veranstaltung
  unter Aufsicht des Veranstalters durchgeführter Schnelltest ist zulässi
 g. In diesem Fall bitten wir einen Schnelltest selber mitzubringen\, da wi
 r als Veranstalter aus organisatorischen Gründen keine Tests-Kits zur Ver
 fügung stellen können.\n\nMit der Anmeldung zur Veranstaltung bestätigt
  jede(r) Teilnehmer(in)\, die o.g. geltenden Corona-Regeln zur Kenntnis ge
 nommen zu haben und am Veranstaltungsabend einzuhalten.\n\n&nbsp\;
CATEGORIES:Nürnberg
END:VEVENT
BEGIN:VTIMEZONE
TZID:Europe/Berlin
X-LIC-LOCATION:Europe/Berlin
BEGIN:DAYLIGHT
DTSTART:20210328T030000
TZOFFSETFROM:+0100
TZOFFSETTO:+0200
TZNAME:CEST
END:DAYLIGHT
END:VTIMEZONE
END:VCALENDAR