BEGIN:VCALENDAR
VERSION:2.0
PRODID:-//wp-events-plugin.com//7.2.3.1//EN
TZID:Europe/Berlin
X-WR-TIMEZONE:Europe/Berlin
BEGIN:VEVENT
UID:437@vtad.de
DTSTART;TZID=Europe/Berlin:20210816T190000
DTEND;TZID=Europe/Berlin:20210816T210000
DTSTAMP:20210811T104116Z
URL:https://www.vtad.de/rgt/thema-folgt-8/
SUMMARY:Stopp-Strategien im Trading und realistische Renditen auf dem Prüf
 stand: Praxisvortrag eines erfahrenen Daytraders
DESCRIPTION:\nDaytrading grenzt sich nicht nur durch die Zeit im Markt von 
 anderen Aktivitäten an der Börse ab\, sondern erfordert teilweise ganz a
 ndere Strategien\, um kontinuierliche Gewinne zu erzielen. Dabei steht neb
 en der klassischen Charttechnik die Variation von Stopp-Techniken im Mitt
 elpunkt. Wie sind diese unter Berücksichtigung des Chartbildes in der Pra
 xis anzuwenden?\nIn diesem Vortrag wird zudem auf die Gewinnmöglichkeiten
  im kurzfristigen Trading eingegangen. Welche Rendite ist realistisch und 
 wie sieht der Alltag eines Daytrader aus?\n \nReferent:\nAndreas Bernstei
 n ist seit 25 Jahren als Trader und auf verschiedenen sozialen Kanälen ak
 tiv\, wo er sein Trading von Indizes\, Aktien und Forex an der Börse aufz
 eigt. Seit dem Jahr 2001 kennt man ihn unter dem Pseudonym "Bernecker1977"
  und erfährt täglich\, welche Ideen er auf Basis der Charttechnik für d
 en DAX und weitere Märkte entwickelt. Mit dem Kanal "FIT4FINANZEN" betreu
 t er einen täglichen Livestream\, einen Podcast und ist mit anderen Trade
 rn im stetigen Austausch.\n\n&nbsp\;\n\n\n\nRegelung für Gäste und Inter
 essierte:\nSchnuppern ist mit vorheriger Anmeldung kostenfrei und erst bei
  ab der zweiten Teilnahme werden 30 € Kostenbeteiligung berechnet. Die G
 äste werden gebeten sich beim Regionalmanager per Email unter rm.berlin@v
 tad.de anzumelden\,  da die Plätze beschränkt sind!\n\nGutscheine für 
 eine einmalige kostenlose Teilnahme erhalten Sie auf Börsentagen\, Messen
  oder auf schriftliche Anfrage beim Regionalmanager.\nGäste ohne vorherig
 e Anmeldung müssen leider abgewiesen werden!!!\n\n\n\nHygienekonzept\, St
 and 13.07.2021:\n\nAuf Grund der Corona-Bestimmungen des Landes Berlin gil
 t bis auf Weiteres folgende Regelung:\n\nBis zu einer Teilnehmerzahl von 5
 0 Personen ist kein Negativtest oder Dergleichen erforderlich.\n\nJEDER Te
 ilnehmer meldet sich vorher(min. 24 Stunden) beim Regionalleiter per Email
  an(mit vollständiger Adresse und Telefonnummer).\n\nWer sich krank fühl
 t bleibt bitte zu Hause. Auf innige Begrüßungen sollte verzichtet werden
 .\n\n\nHinweis: Für diese Veranstaltung sind wir verpflichtet ein entspre
 chendes Hygienekonzept zu erstellen und umzusetzen.
CATEGORIES:Berlin
LOCATION:die Reha e.V.
X-APPLE-STRUCTURED-LOCATION;VALUE=URI;X-ADDRESS=Weydemeyerstr. 2/2a\, Berli
 n\, Berlin\, 10178\, Deutschland;X-APPLE-RADIUS=100;X-TITLE=die Reha e.V.:
 geo:0,0
END:VEVENT
BEGIN:VTIMEZONE
TZID:Europe/Berlin
X-LIC-LOCATION:Europe/Berlin
BEGIN:DAYLIGHT
DTSTART:20210328T030000
TZOFFSETFROM:+0100
TZOFFSETTO:+0200
TZNAME:CEST
END:DAYLIGHT
END:VTIMEZONE
END:VCALENDAR