BEGIN:VCALENDAR
VERSION:2.0
PRODID:-//wp-events-plugin.com//7.2.3.1//EN
TZID:Europe/Berlin
X-WR-TIMEZONE:Europe/Berlin
BEGIN:VEVENT
UID:438@vtad.de
DTSTART;TZID=Europe/Berlin:20210908T190000
DTEND;TZID=Europe/Berlin:20210908T210000
DTSTAMP:20210824T172731Z
URL:https://www.vtad.de/rgt/thema-folgt-9/
SUMMARY:Die Börsenbullen kommen - zunächst der ForexBull im Detail
DESCRIPTION:Wie im Magazin der VTAD-Frühjahresausgabe schon dargestellt\, 
 liefert der ForexBull den buchstäblichen Einblick in die Kristallkugel de
 s Tages. Dieses Handelssignal-Tool\, welches nicht nur speziell für den F
 orex-Markt seine Verwendung findet\, sondern gleichwohl im Index-\, Krypto
 - und Rohstoff-Segment genutzt werden kann\, vollzieht eine tagesaktuelle 
 (Intraday) Vorfilterung der vielversprechendsten Signale im Rahmen einer s
 peziellen Analyse der historischen Entwicklung. Erhalte spannende Einblick
 e zum ForexBull und erfahre\, neben den Tools zur Saisonalität oder bspw.
  der Wochentagsstärke\, mehr über den eigens entwickelten Screener wie a
 uch den Expert-Advisor (EA). Der abschließende Blick auf saisonal interes
 sante Swing-Trading-Chancen darf natürlich nicht fehlen.\n\nPS: Hier grü
 ßt dann auch schon der zweite Bulle jener Börsenbullen – cooming soon!
 \n\n&nbsp\;\n\n\n\nRegelung für Gäste und Interessierte:\nSchnuppern ist
  mit vorheriger Anmeldung kostenfrei und erst bei ab der zweiten Teilnahme
  werden 30 € Kostenbeteiligung berechnet. Die Gäste werden gebeten sich
  beim Regionalmanager per Email unter rm.berlin@vtad.de anzumelden\,  da 
 die Plätze beschränkt sind!\n\nGutscheine für eine einmalige kostenlose
  Teilnahme erhalten Sie auf Börsentagen\, Messen oder auf schriftliche An
 frage beim Regionalmanager.\nGäste ohne vorherige Anmeldung müssen leide
 r abgewiesen werden!!!\n\n\n\nHygienekonzept\, Stand 13.07.2021:\n\nAuf Gr
 und der Corona-Bestimmungen des Landes Berlin gilt bis auf Weiteres folgen
 de Regelung:\n\nBis zu einer Teilnehmerzahl von 50 Personen ist kein Negat
 ivtest oder Dergleichen erforderlich.\n\nJEDER Teilnehmer meldet sich vorh
 er(min. 24 Stunden) beim Regionalleiter per Email an(mit vollständiger Ad
 resse und Telefonnummer).\n\nWer sich krank fühlt bleibt bitte zu Hause. 
 Auf innige Begrüßungen sollte verzichtet werden.\n\n\nHinweis: Für dies
 e Veranstaltung sind wir verpflichtet ein entsprechendes Hygienekonzept zu
  erstellen und umzusetzen.
CATEGORIES:Berlin
LOCATION:die Reha e.V.
X-APPLE-STRUCTURED-LOCATION;VALUE=URI;X-ADDRESS=Weydemeyerstr. 2/2a\, Berli
 n\, Berlin\, 10178\, Deutschland;X-APPLE-RADIUS=100;X-TITLE=die Reha e.V.:
 geo:0,0
END:VEVENT
BEGIN:VTIMEZONE
TZID:Europe/Berlin
X-LIC-LOCATION:Europe/Berlin
BEGIN:DAYLIGHT
DTSTART:20210328T030000
TZOFFSETFROM:+0100
TZOFFSETTO:+0200
TZNAME:CEST
END:DAYLIGHT
END:VTIMEZONE
END:VCALENDAR