BEGIN:VCALENDAR
VERSION:2.0
PRODID:-//wp-events-plugin.com//7.2.3.1//EN
TZID:Europe/Berlin
X-WR-TIMEZONE:Europe/Berlin
BEGIN:VEVENT
UID:221@vtad.de
DTSTART;TZID=Europe/Berlin:20210505T183000
DTEND;TZID=Europe/Berlin:20210505T210000
DTSTAMP:20210427T181134Z
URL:https://www.vtad.de/rgt/thema-folgt/
SUMMARY:+++ABGESAGT +++ Pivot Point Strategy – ein Handelsansatz für Day
 - und Wochentrading
DESCRIPTION:Die Veranstaltung am 05.05.2021 mit Peter Dieterich (CFTe) als 
 Referent muß leider wegen der weiterhin gültigen Corona-Beschränkungen 
 abgesagt werden (Lockdown in Bayern bis 09.05.2021). Sein Vortrag wird im 
 kommenden Jahr nachgeholt. Als Ersatz wird im Mai ein gemeinsames Webinar 
 mit der Regionalgruppe Freiburg stattfinden. Termin und Thema des Ersatz-W
 ebinares werden rechtzeitig bekanntgegeben. \n\nPivot Punkte stellen klas
 sische Unterstützungs-und Widerstandsniveaus im Chart dar. Zudem können 
 Pivot Punkte als Signalgeber für den Ein-bzw. Ausstieg einer Position die
 nen. Das Analysesystem baut auf statistische Datenbanken auf und erlaubt d
 ie Aussage\, mit welcher Wahrscheinlichkeit die einzelnen Pivot-Punkte im 
 Tages-oder Wochenverlauf erreichtund gehaltenwerden. Die Entwicklung der S
 trategie erfolgte in Eigenregie und findet ihre diskretionäre Anwendung a
 uf diverse Aktien-Indizes und Währungspaare. Die Ansätze und die praktis
 che Umsetzung der Strategie wurden bisher nicht veröffentlicht. Im Vortra
 g werden die Grundlagen zu Pivot-Punkten\, die Überleitung zum Analysesys
 tem sowie mögliche Handelsansätze vermittelt.\n\nDer Referent:\n\nPeter 
 Dieterich (Dipl.-Wirtsch.-Ing (FH) und CFTe) ist seit 2012 Mitglied der VT
 AD in der Regionalgruppe Nürnberg. Er ist seit Mitte der neunziger Jahre 
 an der Börse aktiv. Seit Ende 2014 betreibt er seine eigene Homepage (for
 mationenundmuster.com) rund um die Technische Analyse nach dem Motto: „T
 echnische Analyse – Das Fundament erfolgreicher Setups!“. Heute ist er
  hauptsächlich als Day- und Swingtrader in diversen Aktienindizes und For
 ex-Paaren unterwegs.\n\nBitte beachten Sie:\n- Teilnahme für Mitglieder (
 !) und Nicht-Mitglieder nur nach vorheriger\nAnmeldung per Mail an:  rm.n
 uernberg@vtad.de\n- Anmeldung erbeten bis spätestens 28.04.2021\n- Anmeld
 ung bitte mit Vorname\, Nachname und Telefonnummer oder kompletter Anschri
 ft\n- maximale Teilnehmerzahl 25 Personen\n\nDie Plätze werden gemäß de
 s zeitlichen Einganges der Anmeldungen in unser Postfach vergeben.\n- Einl
 aß ab 17:45h. Ab 18:30h ist kein Einlaß mehr möglich. Wir bitten um pü
 nktliches Erscheinen !\n\nWichtiger Hinweis zu den aktuellen Corona-Regeln
 :\nWir verweisen ausdrücklich auf die geltenden Corona-Regeln der bayeris
 chen Landesregierung: www.stmgp.bayern.de/coronavirus/rechtsgrundlagen/\n\
 nsowie auf die Regeln des Hygienekonzeptes unseres Vermieters\, die unter 
 www.eckstein-evangelisch.de/veranstaltungen/startseite.html einzusehen und
  strikt zu befolgen sind.\n\nPersonen\, die aktuell positiv auf COVID-19 g
 etestet sind\, unter Quarantäne gestellt sind oder in den letzten 14 Tage
 n vor dem Veranstaltungstermin Kontakt zu einem COVID-19-Erkrankten hatten
 \, dürfen das Haus Eckstein nicht betreten und bleiben bitte zu Hause. Di
 es gilt auch für Personen mit akutem Erkrankungsbild\, insbesondere bei F
 ieber oder Atemwegserkrankungen.
CATEGORIES:Nürnberg
LOCATION:eckstein haus der evang.-luth. kirche nürnberg
X-APPLE-STRUCTURED-LOCATION;VALUE=URI;X-ADDRESS=Burgstrasse 1-3\, Raum 1.01
 \, Nürnberg\, 90403 \, Bayern\, Deutschland;X-APPLE-RADIUS=100;X-TITLE=ec
 kstein haus der evang.-luth. kirche nürnberg:geo:0,0
END:VEVENT
BEGIN:VTIMEZONE
TZID:Europe/Berlin
X-LIC-LOCATION:Europe/Berlin
BEGIN:DAYLIGHT
DTSTART:20210328T030000
TZOFFSETFROM:+0100
TZOFFSETTO:+0200
TZNAME:CEST
END:DAYLIGHT
END:VTIMEZONE
END:VCALENDAR