BEGIN:VCALENDAR
VERSION:2.0
PRODID:-//wp-events-plugin.com//7.2.3.1//EN
TZID:Europe/Berlin
X-WR-TIMEZONE:Europe/Berlin
BEGIN:VEVENT
UID:756@vtad.de
DTSTART;TZID=Europe/Berlin:20231019T183000
DTEND;TZID=Europe/Berlin:20231019T201500
DTSTAMP:20230921T074529Z
URL:https://www.vtad.de/rgt/this-is-not-my-cup-of-beer-2/
SUMMARY:"This is (not) my Cup of Beer"
DESCRIPTION:Christian Staufenbiel ist Mitglied der Regionalgruppe und diplo
 mierter Hobbybierbrauer. Wir nehmen das zum Anlass uns heute branchenspezi
 fisch u.a. mit Brauerei- und Getränkeaktien zu beschäftigen. Dabei werde
 n wir Anteilsscheine aus der Industry "Distillers &amp\; Breweries" (z.B. 
 Interbrew\, Monster Breverage) und weitere Aktien nach der Methode der Rel
 ativen Stärke analysieren und charttechnisch gegenchecken.\n\nPassend daz
 u gibt es zwei von Christian selbst gebraute Biere zur Verkostung: ein Hel
 les und als Kontrast dazu ein kräftig-malziges Roggenbier. Vor Beginn des
  Ausschanks gibt Christian einen kurzen Überblick über den Brauprozess u
 nd bringt auch konkret verwendete Indigrenzien wie Hopfen und Malz\, die w
 ir beschnuppern und befühlen können\, mit.\n\nNeben dem analytischen Tei
 l heute also auch ein Feuerwerk der Sinne.
CATEGORIES:Düsseldorf
END:VEVENT
BEGIN:VTIMEZONE
TZID:Europe/Berlin
X-LIC-LOCATION:Europe/Berlin
BEGIN:DAYLIGHT
DTSTART:20230326T030000
TZOFFSETFROM:+0100
TZOFFSETTO:+0200
TZNAME:CEST
END:DAYLIGHT
END:VTIMEZONE
END:VCALENDAR