BEGIN:VCALENDAR
VERSION:2.0
PRODID:-//wp-events-plugin.com//7.2.3.1//EN
TZID:Europe/Berlin
X-WR-TIMEZONE:Europe/Berlin
BEGIN:VEVENT
UID:432@vtad.de
DTSTART;TZID=Europe/Berlin:20211005T190000
DTEND;TZID=Europe/Berlin:20211005T203000
DTSTAMP:20211005T052007Z
URL:https://www.vtad.de/rgt/thomas-vittner-aktien-erfolgreich-mit-statisti
 schen-methoden-traden/
SUMMARY:Thomas Vittner: Aktien erfolgreich mit statistischen Methoden trade
 n --- FÄLLT AUS (häusliche Karantäne des Referenten) FÄLLT AUS -------
 --------------
DESCRIPTION:„Trading ist ein statistisches Problem“. Diese Aussage stö
 ßt bei vielen Tradern auf Unverständnis. Doch da auch der beste Trader n
 icht in die Zukunft blicken kann\, müssen wir unseren Fokus auf das lenke
 n\, was wir wissen. Auf die Kurshistorie und damit auf vergangene Ereignis
 se.\n\nIn diesem Vortrag erklärt Trader und Aktienexperte Thomas Vittner\
 , welche grundlegenden Trading Strategien existieren und wie sie funktioni
 eren. Erörtert wird vorab jedoch die wichtige Frage\, welche Märkte ein 
 privater Trader überhaupt handeln kann\, damit eine Berufstätigkeit mit 
 dem Trading in Einklang gebracht werden kann.\n\nIm Anschluss erfahren wir
 \, welche Kernelemente eines Trading Systems bedeutend sind. Darauf aufbau
 end führen wir eine Zielmarktanalyse durch und prüfen\, auf welche Tradi
 ng Modelle die gewählte Anlageklasse besser anspricht. Darüber hinaus we
 rden wichtige Entry und Exit Arten besprochen sowie anhand von zahlreichen
  Live Backtests verschiedene Methoden auf Plausibilität untersucht.\n\nDa
 raus leiten wir einen funktionierenden Handlungsrahmen ab\, den die Teilne
 hmer fortan mit diskretionären Techniken manuell umsetzten können. Dieje
 nigen Teilnehmer\, die sich mehr dem Thema Backtesting zuwenden möchten\,
  finden in dieser Veranstaltung wichtiges Basiswissen\, das sie im Selbsts
 tudium nach der Veranstaltung vertiefen können.\n\nWenn Sie lernen wollen
 \, wie man Aktien auf statistischer Basis vernünftig traden kann\, dann d
 ürfen Sie sich diesen Profi Vortrag von Thomas Vittner keinesfalls entgeh
 en lassen.\n\nÜber Thomas:\n\nThomas Vittner kam im Jahr 2001 als Querein
 steiger aus der Versicherungsbranche an die Börse und wurde innerhalb wen
 iger Jahre zu einem erfolgreichem Aktienhändler.\n\nEr ist Bestseller Aut
 or und Gründer des weltweit ersten Aktien Robo Advisor\, einem digitalen 
 Finanzdienstleister. Darüber hinaus hielt Thomas zahlreiche Vorträge an 
 deutschen Universitäten (München\, Hamburg\, Halle\, Augsburg u.a.)\n\nA
 uf seiner Homepage thomasvittner.com finden Sie mehr Informationen über T
 homas Vittner.
CATEGORIES:Düsseldorf
END:VEVENT
BEGIN:VTIMEZONE
TZID:Europe/Berlin
X-LIC-LOCATION:Europe/Berlin
BEGIN:DAYLIGHT
DTSTART:20210328T030000
TZOFFSETFROM:+0100
TZOFFSETTO:+0200
TZNAME:CEST
END:DAYLIGHT
END:VTIMEZONE
END:VCALENDAR