BEGIN:VCALENDAR
VERSION:2.0
PRODID:-//wp-events-plugin.com//7.2.3.1//EN
TZID:Europe/Berlin
X-WR-TIMEZONE:Europe/Berlin
BEGIN:VEVENT
UID:695@vtad.de
DTSTART;TZID=Europe/Berlin:20230620T183000
DTEND;TZID=Europe/Berlin:20230620T204500
DTSTAMP:20230428T110144Z
URL:https://www.vtad.de/rgt/trades-und-maerkte-finden-mit-der-expander-str
 ategie-2/
SUMMARY:Trades und Märkte finden mit der Expander Strategie
DESCRIPTION:Wer sucht sie nicht – die perfekte Strategie? Wer sich mit Ch
 arts beschäftigt\, merkt schnell\, dass es nicht nur unzählige Möglichk
 eiten gibt wie sich ein Markt entwickeln kann\, sondern auch diese Bewegun
 gen zu handeln.\n\nSchnell ist der Werkzeugkoffer dann bis an den Rand gef
 üllt und der Chart ebenfalls. Wie es einfacher geht und welche Strategie 
 für die meisten Bewegungen einfach anwendbar ist\, das erklärt Wieland A
 rlt\, CFTe in seinem Vortrag.\n\n&nbsp\;\n\n»Wieland Arlt ist einer der e
 rfolgreichsten Trader Deutschlands\, gefragter Referent und Autor von Fach
 beiträgen und Büchern« (Börse Online).\n\nWieland Arlt\, CFTe ist prof
 essioneller Trader\, Bestseller Autor und Trading-Coach. Er ist Autor der 
 Bestseller-Bücher "Risiko- und Money-Management - Simplified" und "55 Gr
 ünde\, Trader zu werden" sowie zahlreicher Artikel in führenden Finanzma
 gazinen. Seit Jahren ist er ein gefragter Speaker und Experte auf internat
 ionalen Finanzmessen und Fachkongressen.\n\nAls Trader\, Coach und Ausbild
 er ist es ihm wichtig\, Handelsansätze zu vermitteln\, die leicht verstä
 ndlich und damit auch leicht umsetzbar sind.\n\nSein erklärtes Ziel im Tr
 ader-Coaching und -Training ist es\, Trader dabei zu unterstützen\, ihre 
 finanziellen Ziele selbstbestimmt zu erreichen und langfristig erfolgreich
  auf den Finanzmärkten zu handeln.\n\nWieland Arlt ist Diplom-Volkswirt\,
  Präsident der International Federation of Technical Analysts (IFTA)\, Vo
 rstandsmitglied der Vereinigung Technischer Analysten in Deutschland (VTAD
 ) sowie offizielles Mitglied des „Forbes Finance Council“ und ehemalig
 es Mitglied des „Newsweek Expert Forum“.\n\nAls Trader und internation
 aler Börsen-Experte lebt Wieland Arlt die vollkommene Freiheit und bereis
 t die Welt als Perpetual Traveler.
CATEGORIES:Düsseldorf
END:VEVENT
BEGIN:VTIMEZONE
TZID:Europe/Berlin
X-LIC-LOCATION:Europe/Berlin
BEGIN:DAYLIGHT
DTSTART:20230326T030000
TZOFFSETFROM:+0100
TZOFFSETTO:+0200
TZNAME:CEST
END:DAYLIGHT
END:VTIMEZONE
END:VCALENDAR