BEGIN:VCALENDAR
VERSION:2.0
PRODID:-//wp-events-plugin.com//7.2.3.1//EN
TZID:Europe/Berlin
X-WR-TIMEZONE:Europe/Berlin
BEGIN:VEVENT
UID:1078@vtad.de
DTSTART;TZID=Europe/Berlin:20260108T183000
DTEND;TZID=Europe/Berlin:20260108T200000
DTSTAMP:20251020T154425Z
URL:https://www.vtad.de/rgt/trading-am-punkt-der-spannung-mit-dem-indikato
 r-ttm-squeeze-ausbrueche-erkennen-und-meistern/
SUMMARY:Trading am Punkt der Spannung: Mit dem Indikator TTM Squeeze Ausbr
 üche erkennen und meistern
DESCRIPTION:Breakouts strategisch planen mit Bollinger Bändern\, Keltner C
 hannel &amp\; dem TTM Squeeze\n\n&nbsp\;\n\nWenn Märkte scheinbar zur Ruh
 e kommen\, baut sich oft unbemerkt Energie auf. Genau hier setzt der TTM S
 queeze an: Eine Kombination aus Volatilitätskompression\, Momentumanalyse
  und technischem Timing.\n\n&nbsp\;\n\nDieser Vortrag zeigt\, wie sich mit
  der gezielten Anwendung von Bollinger Bändern\, Keltner Channel und dem 
 TTM Squeeze Indikator systematisch Breakout-Chancen identifizieren lassen.
 \n\nLernen Sie\, wie Sie Marktdruck erkennen\, Momentum bewerten und Ihre 
 Einstiege strategisch timen\, basierend auf klaren technischen Kriterien. 
 Ideal für alle\, die Ausbruchshandel fundiert\, regelbasiert und mit ment
 aler Klarheit betreiben wollen.\n\n&nbsp\;\n\nStruktur des Vortrags:\n\n 	
 Mindset – Die Basis des Tradings\nWarum Fokus und Disziplin entscheidend
 er sind als Wissen.\n 	Marktphasen erkennen\nTrendlogik\, Choppy-Zonen\, E
 MA-Stacking &amp\; Marktumfeld.\n 	Bollinger Bänder – Das erste „Warn
 signal“\nVolatilitätsverengung als Hinweis auf bevorstehende Bewegung.\
 n 	Keltner Channel – Der echte Squeeze\nTechnische Definition und visuel
 le Bestätigung der Kompression.\n 	Der TTM Squeeze Indikator – Der Game
 changer\nAufbau\, Anwendung und Interpretation von Squeeze &amp\; Momentum
 .\n 	Richtung erkennen\nHistogramm\, EMAs &amp\; Kontextanalyse.\n 	Best P
 ractices &amp\; Fehler vermeiden\nSystem statt Emotion: Was einen „clean
 en“ Trade ausmacht.\n 	Live-Demo &amp\; Q&amp\;A\nPraktisches Beispiel a
 us dem Markt + Antworten auf Publikumsfragen.\n
CATEGORIES:Stuttgart
LOCATION:Haus der Wirtschaft
X-APPLE-STRUCTURED-LOCATION;VALUE=URI;X-ADDRESS= Willi-Bleicher-Straße 19\
 , Stuttgart\, 71174\, Deutschland;X-APPLE-RADIUS=100;X-TITLE=Haus der Wirt
 schaft:geo:0,0
END:VEVENT
BEGIN:VTIMEZONE
TZID:Europe/Berlin
X-LIC-LOCATION:Europe/Berlin
BEGIN:STANDARD
DTSTART:20251026T020000
TZOFFSETFROM:+0200
TZOFFSETTO:+0100
TZNAME:CET
END:STANDARD
END:VTIMEZONE
END:VCALENDAR