BEGIN:VCALENDAR
VERSION:2.0
PRODID:-//wp-events-plugin.com//7.2.3.1//EN
TZID:Europe/Berlin
X-WR-TIMEZONE:Europe/Berlin
BEGIN:VEVENT
UID:655@vtad.de
DTSTART;TZID=Europe/Berlin:20230419T183000
DTEND;TZID=Europe/Berlin:20230419T210000
DTSTAMP:20230121T170609Z
URL:https://www.vtad.de/rgt/trading-und-gambling-was-trader-von-spielcasin
 os-lernen-koennen/
SUMMARY:Trading und Gambling – was Trader von Spielcasinos lernen können
DESCRIPTION:Für Trader lohnt sich der Blick ins Spielcasino: Es kommt nich
 t auf das nächste Spiel an\, sondern auf die Summe aller Spiele am Ende d
 es Tages. Das ist die Perspektive der Spielbank. Warum sagen die besten Tr
 ader\, dass der Ausgang des nächsten Trades weder vorhersehbar noch wicht
 ig ist? Warum konzentrieren sie sich lediglich auf die Umsetzung einer Han
 delsstrategie mit positivem Erwartungswert?\nLogisches Kalkül statt Speku
 lation: Trading aus der Perspektive einer Spielbank macht den entscheidend
 en Unterschied. Erfahrene Trader denken in Wahrscheinlichkeiten und Erwart
 ungswerten. Sie versuchen erst gar nicht\, den Markt vorherzusagen. Sie re
 chnen ihre Chancen aus und spekulieren nicht. Es ist ein Zahlenspiel\, das
  keine Gesetzmäßigkeiten kennt. Wer das verinnerlicht hat\, wird sich au
 ch nicht mit einzelnen Verlusten identifizieren oder Verluste persönlich 
 nehmen. Der nächste Trade ist immer nur einer von vielen. Erfahrene Trade
 r haben gelernt zu akzeptieren\, dass der Ausgang des nächsten Trades imm
 er ungewiss ist. Und sie müssen es auch nicht wissen\, um erfolgreich zu 
 sein. Die Summe aller Trades entscheidet über die Profitabilität der Han
 delsstrategie\, nicht der einzelne Trade.\n\nIhr Referent:\n\nDer studiert
 e Diplom Volkswirt Roland Ullrich hat 20 Jahre bei Investmentbanken in Fra
 nkfurt\, London und New York im institutionellen Aktiengeschäft gearbeite
 t. Er war fünf Jahre an der Wall Street tätig und verantwortete zuletzt 
 das globale Aktiengeschäft einer in Frankfurt ansässigen Großbank.\n\nS
 eit zehn Jahren berät er private und professionelle Anleger und Trader\, 
 schreibt Fachbeiträge und Bücher\, hält Vorträge und leitet Seminare z
 u den Themen "Trading-Psychologie" und "Hirngerechte Börsenstrategien". R
 oland Ullrich ist Chartered Financial Analyst (CFA)\, Persönlichkeits- un
 d Kompetenztrainer\, NLP Coach und Mitglied in der VTAD Regionalgruppe Fra
 nkfurt a.M.. Internetpräsenz: roland-ullrich.com/\n\n&nbsp\;
CATEGORIES:Nürnberg
LOCATION:eckstein haus der evang.-luth. kirche nürnberg
X-APPLE-STRUCTURED-LOCATION;VALUE=URI;X-ADDRESS=Burgstrasse 1-3\, Raum 1.01
 \, Nürnberg\, 90403 \, Bayern\, Deutschland;X-APPLE-RADIUS=100;X-TITLE=ec
 kstein haus der evang.-luth. kirche nürnberg:geo:0,0
END:VEVENT
BEGIN:VTIMEZONE
TZID:Europe/Berlin
X-LIC-LOCATION:Europe/Berlin
BEGIN:DAYLIGHT
DTSTART:20230326T030000
TZOFFSETFROM:+0100
TZOFFSETTO:+0200
TZNAME:CEST
END:DAYLIGHT
END:VTIMEZONE
END:VCALENDAR