BEGIN:VCALENDAR
VERSION:2.0
PRODID:-//wp-events-plugin.com//7.2.3.1//EN
TZID:Europe/Berlin
X-WR-TIMEZONE:Europe/Berlin
BEGIN:VEVENT
UID:733@vtad.de
DTSTART;TZID=Europe/Berlin:20230815T180000
DTEND;TZID=Europe/Berlin:20230815T230000
DTSTAMP:20230717T052911Z
URL:https://www.vtad.de/rgt/treffen-fuer-daheimgebliebene-2/
SUMMARY:Treffen für Daheimgebliebene
DESCRIPTION:Es herrscht Sommerpause und viele Mitglieder sind im wohlverdie
 nten Urlaub. Wie auch im letzten Jahr wollen wir das August-Meeting nicht 
 ganz ausfallen lassen und deshalb haben wir ein „Trader-Treffen“ organ
 isiert.\nDie Daheimgebliebenen sind herzlich eingeladen sich zum Diskutier
 en\, Unterhalten und Fachsimpeln in entspannter Atmosphäre zu treffen.
CATEGORIES:Berlin
LOCATION:Ristorante Arlecchino
X-APPLE-STRUCTURED-LOCATION;VALUE=URI;X-ADDRESS=Meineckestr. 25\, Berlin\, 
 10719\, Deutschland;X-APPLE-RADIUS=100;X-TITLE=Ristorante Arlecchino:geo:0
 ,0
END:VEVENT
BEGIN:VTIMEZONE
TZID:Europe/Berlin
X-LIC-LOCATION:Europe/Berlin
BEGIN:DAYLIGHT
DTSTART:20230326T030000
TZOFFSETFROM:+0100
TZOFFSETTO:+0200
TZNAME:CEST
END:DAYLIGHT
END:VTIMEZONE
END:VCALENDAR