BEGIN:VCALENDAR
VERSION:2.0
PRODID:-//wp-events-plugin.com//7.2.3.1//EN
TZID:Europe/Berlin
X-WR-TIMEZONE:Europe/Berlin
BEGIN:VEVENT
UID:582@vtad.de
DTSTART;TZID=Europe/Berlin:20220802T180000
DTEND;TZID=Europe/Berlin:20220802T230000
DTSTAMP:20220725T180856Z
URL:https://www.vtad.de/rgt/treffen-fuer-daheimgebliebene/
SUMMARY:Treffen für Daheimgebliebene
DESCRIPTION:Es herrscht Sommerpause und viele Mitglieder sind im wohlverdie
 nten Urlaub. Wie auch im letzten Jahr wollen wir das August-Meeting nicht 
 ganz ausfallen lassen und deshalb haben wir ein „Trader-Treffen“ organ
 isiert.\nDie Daheimgebliebenen sind herzlich eingeladen sich zum Diskutier
 en\, Unterhalten und Fachsimpeln in entspannter Atmosphäre zu treffen.\n&
 nbsp\;\n\n\n\nHygienekonzept:\n\nMomentan gibt es keine Einschränkungen.\
 n\n\n&nbsp\;\n\nWer sich krank fühlt bleibt bitte zu Hause. Auf innige Be
 grüßungen sollte verzichtet werden.\n\n\nHinweis: Für diese Veranstaltu
 ng sind wir verpflichtet ein entsprechendes Hygienekonzept zu erstellen un
 d umzusetzen.
CATEGORIES:Berlin
LOCATION:Lichtblick - Restaurant
X-APPLE-STRUCTURED-LOCATION;VALUE=URI;X-ADDRESS=Birkenstr. 33\, 10551 Berli
 n\, Deutschland;X-APPLE-RADIUS=100;X-TITLE=Lichtblick - Restaurant:geo:0,0
END:VEVENT
BEGIN:VTIMEZONE
TZID:Europe/Berlin
X-LIC-LOCATION:Europe/Berlin
BEGIN:DAYLIGHT
DTSTART:20220327T030000
TZOFFSETFROM:+0100
TZOFFSETTO:+0200
TZNAME:CEST
END:DAYLIGHT
END:VTIMEZONE
END:VCALENDAR