BEGIN:VCALENDAR
VERSION:2.0
PRODID:-//wp-events-plugin.com//7.2.3.1//EN
TZID:Europe/Berlin
X-WR-TIMEZONE:Europe/Berlin
BEGIN:VEVENT
UID:302@vtad.de
DTSTART;TZID=Europe/Berlin:20201110T190000
DTEND;TZID=Europe/Berlin:20201110T211500
DTSTAMP:20201101T112755Z
URL:https://www.vtad.de/rgt/trendhandel-mit-volumenbestaetigung-2/
SUMMARY:Aktienhandel mit Trendstabilität - FÄLLT AUS wg. Shutdown No. 2 (
 wird nachgeholt)
DESCRIPTION:+++ DIE VERANSTALTUNG FINDET AUFGRUND DER AKTUELLEN CORONA-SITU
 ATION NICHT STATT UND WIRD ZU EINEM SPÄTEREN ZEITPUNKT NACHGEHOLT.  +++\
 n\nDer Handel mit Trends gilt im Allgemeinen als erfolgversprechend. Hierb
 ei muss beachtet werden\, dass nicht alle Trends attraktiv sind. Manche si
 nd dynamisch-kurz und andere verlaufen beständig und scheinbar endlos. De
 r Vortrag zeigt eine Vorgehensweise zur Auswahl guter Trendaktien\, die be
 ständiger sind als der Durchschnitt. Eine der Kernthesen ist dabei\, dass
  Kurs- und der Volumentrend sich ergänzen müssen.\nIm zweiten Vortragste
 il zeigen Ihnen die Referenten\, wie Top-Aktien entdeckt werden können. H
 ierbei lernen Sie anschaulich\, wie aus einer Aktien-Scanlist eine persön
 liche Watchlist wird und wie daraus die aussichtsreichsten Aktien gehandel
 t werden. Es werden im wahrsten Sinn die Rosinen heraus gepickt. Diese Ros
 inen werden dann im Wikifolio-Zertifikat Trendbulle gehandelt.\nIhr Fachwi
 ssen teilen Sie mit der Trader-Community auf dem YouTube-Channel – Trend
 Bulle\n\n\n\nIhre Referenten:\nChristian Lukas\nChristian Lukas ist Trader
  und Börsenjournalist. Seine Spezialität ist die charttechnische Kursana
 lyse unter Berücksichtigung des Handelsvolumens. Er betreibt Eigenhandel 
 mit dem FDAX und Bund-Future und vertraut dabei auf selbstentwickelte Hand
 elssysteme.\n\nMarko Klingner\nIst privater Trader und seit der Spitze der
  dot.com – Krise an den Märkten aktiv. Seine Spezialisierung liegt hier
  im Bereich von Mustererkennung. Im Eigenhandel tradet er im kurz - mittel
 fristigigen Zeitfenster Währungen und Aktien.\nEr leitet seit mehreren Ja
 hren die Berliner Regionalgruppe der VTAD.
CATEGORIES:Düsseldorf
END:VEVENT
BEGIN:VTIMEZONE
TZID:Europe/Berlin
X-LIC-LOCATION:Europe/Berlin
BEGIN:STANDARD
DTSTART:20201025T020000
TZOFFSETFROM:+0200
TZOFFSETTO:+0100
TZNAME:CET
END:STANDARD
END:VTIMEZONE
END:VCALENDAR