BEGIN:VCALENDAR
VERSION:2.0
PRODID:-//wp-events-plugin.com//7.2.3.1//EN
TZID:Europe/Berlin
X-WR-TIMEZONE:Europe/Berlin
BEGIN:VEVENT
UID:887@vtad.de
DTSTART;TZID=Europe/Berlin:20241017T183000
DTEND;TZID=Europe/Berlin:20241017T200000
DTSTAMP:20241009T150329Z
URL:https://www.vtad.de/rgt/volume-profile/
SUMMARY:Volume Profile
DESCRIPTION:Volumen-Trading ist derzeit einer der angesagtesten Handelsans
 ätze und wird geradezu als Gelddruckmaschine angepriesen. Seminare zum Vo
 lumen-Trading mit dem Volume Profile werden sehr hochpreisig verkauft.\n\n
 Doch ist Volumen-Trading der heilige Gral des Tradings?\n\nKarin Roller gi
 bt Ihnen in diesem Vortrag einen Einblick ins Volume Profile:\n\n 	Was ist
  das Volume Profile?\n 	Wie wird der Volume Profile Chart konstruiert?\n 	
 Was verbirgt sich hinter den Abkürzungen VPoC\, VAH\, VAL\, HVN oder LVN?
 \n 	Für welche Märkte kann es verwendet werden?\n 	Welche Software wird 
 dafür benötigt?\n 	... und viele mehr ...\n\nKarin Roller ist Traderin\,
  Autorin\, Technische Analystin (CFTe)\, Mitglied des Vorstands der VTAD e
 .V. (Vereinigung Technischer Analysten Deutschlands) und leitet die Region
 algruppe Stuttgart. Mehr Infos unter www.boersen-knowhow.de\n\n&nbsp\;
CATEGORIES:Stuttgart
LOCATION:Haus der Wirtschaft
X-APPLE-STRUCTURED-LOCATION;VALUE=URI;X-ADDRESS= Willi-Bleicher-Straße 19\
 , Stuttgart\, 71174\, Deutschland;X-APPLE-RADIUS=100;X-TITLE=Haus der Wirt
 schaft:geo:0,0
END:VEVENT
BEGIN:VTIMEZONE
TZID:Europe/Berlin
X-LIC-LOCATION:Europe/Berlin
BEGIN:DAYLIGHT
DTSTART:20240331T030000
TZOFFSETFROM:+0100
TZOFFSETTO:+0200
TZNAME:CEST
END:DAYLIGHT
END:VTIMEZONE
END:VCALENDAR