BEGIN:VCALENDAR
VERSION:2.0
PRODID:-//wp-events-plugin.com//7.2.3.1//EN
TZID:Europe/Berlin
X-WR-TIMEZONE:Europe/Berlin
BEGIN:VEVENT
UID:854@vtad.de
DTSTART;TZID=Europe/Berlin:20241113T183000
DTEND;TZID=Europe/Berlin:20241113T210000
DTSTAMP:20241226T132406Z
URL:https://www.vtad.de/rgt/von-der-kurzfristigen-kapitalbeschaffung-hin-z
 um-langfristigen-vermoegensaufbau/
SUMMARY:Von der kurzfristigen Kapitalbeschaffung hin zum langfristigen Verm
 ögensaufbau
DESCRIPTION:Vortragsunterlagen (bitte einloggen!): [members_logged_in]  VT
 AD Von der kurzfristigen Kapitalbeschaffung hin zum langfristigen Vermöge
 nsaufbau[/members_logged_in]\n\n 	Möglichkeiten und Herausforderungen der
  kurzfristigen Kapitalbeschaffung am Finanzmarkt\n 	Einfachheit siegt in d
 en meisten Fällen\n 	Geschickter Portfolioaufbau mit Potenzial den Markt 
 dauerhaft zu schlagen\n 	Und Zwischendurch ein Monstertrade - So ist er id
 entifizierbar\n\nDer Referent:\n\nGeboren im Jahr 1980 im Süden Deutschla
 nds hat Frank Sohlleder im Jahr 2004 sein Diplom als Wirtschaftsinformatik
 er (BA) erhalten.\n\nGestartet als Wirtschaftsinformatiker packte ihn die 
 Begeisterung für die Finanzmärkte bereits zu Zeiten des Abiturs und Stud
 iums gepackt.\n\nBerufsbegleitend etablierte er im Selbstlernprozess unter
 stützt durch erfahrene Börsenhändler wie Christian Schlegel oder Börse
 nlegende Larry Williams die Kenntnis an den Finanzmärkten zu bestehen.\n\
 nSein Ziel: Über kurzfristige Kapitalbeschaffung (Trading) einen langfris
 tigen Vermögensaufbauprozess etablieren (Active Investing).\n\nwww.traden
 -lernen-online.de\n\n&nbsp\;
CATEGORIES:Nürnberg
LOCATION:eckstein haus der evang.-luth. kirche nürnberg
X-APPLE-STRUCTURED-LOCATION;VALUE=URI;X-ADDRESS=Burgstrasse 1-3\, Raum 1.01
 \, Nürnberg\, 90403 \, Bayern\, Deutschland;X-APPLE-RADIUS=100;X-TITLE=ec
 kstein haus der evang.-luth. kirche nürnberg:geo:0,0
END:VEVENT
BEGIN:VTIMEZONE
TZID:Europe/Berlin
X-LIC-LOCATION:Europe/Berlin
BEGIN:STANDARD
DTSTART:20241027T020000
TZOFFSETFROM:+0200
TZOFFSETTO:+0100
TZNAME:CET
END:STANDARD
END:VTIMEZONE
END:VCALENDAR