BEGIN:VCALENDAR
VERSION:2.0
PRODID:-//wp-events-plugin.com//7.2.3.1//EN
TZID:Europe/Berlin
X-WR-TIMEZONE:Europe/Berlin
BEGIN:VEVENT
UID:533@vtad.de
DTSTART;TZID=Europe/Berlin:20220427T190000
DTEND;TZID=Europe/Berlin:20220427T220000
DTSTAMP:20220428T143757Z
URL:https://www.vtad.de/rgt/warming-up-eine-neubewertung-der-lage-in-ausge
 waehlten-rohstoff-indizes/
SUMMARY:Warming Up: Eine Neubewertung der Lage in ausgewählten (Rohstoff-
 )Indizes
DESCRIPTION:WO: Restaurant Cuccini\, Hüttenstraße 30\, Düsseldorf\n\nWAN
 N: 27.04.2022 19:00 h\n\nWAS: Warming Up: Eine Neubewertung der Lage in a
 usgewählten (Rohstoff-)Indizes seit dem Ausbruch des Kriegs in der Ukrain
 e\n\nAnknüpfend an unserer traditonelles Weihnachtstreffen mit Chartbetra
 chtungen nach Wunsch der Teilnehmer im Dezember gibt es aus aktuellem Anla
 ss heute ein Update mit Analyse der aktuellen Situtation in ausgewählten 
 Rohstoffen und Indizes. Strukturbrüche aufgrund unvorhergesehender Ereign
 isse wie Naturkastastrophen oder Krieg sind selten und zwingen häufig zu 
 einer grundsätzlichen Neubewertung.\n\n220427 (Sondertreffen)_Chartbetrac
 htungen
CATEGORIES:Düsseldorf
END:VEVENT
BEGIN:VTIMEZONE
TZID:Europe/Berlin
X-LIC-LOCATION:Europe/Berlin
BEGIN:DAYLIGHT
DTSTART:20220327T030000
TZOFFSETFROM:+0100
TZOFFSETTO:+0200
TZNAME:CEST
END:DAYLIGHT
END:VTIMEZONE
END:VCALENDAR