BEGIN:VCALENDAR
VERSION:2.0
PRODID:-//wp-events-plugin.com//7.2.3.1//EN
TZID:Europe/Berlin
X-WR-TIMEZONE:Europe/Berlin
BEGIN:VEVENT
UID:1029@vtad.de
DTSTART;TZID=Europe/Berlin:20250710T183000
DTEND;TZID=Europe/Berlin:20250710T204500
DTSTAMP:20250520T140521Z
URL:https://www.vtad.de/rgt/warum-traden-wir-2/
SUMMARY:Warum traden wir?
DESCRIPTION:Welche Ziele hat man beim Trading: einfach Spaß haben\, Vermö
 gensaufbau\, Vermögenserhalt (Inflationsschutz)\, Rentenlücke-Schließun
 g\, Einkommen generieren?\nWie erreicht man diese Ziele mit vertretbaren A
 ufwand?\nWelchen Einfluss hat die Psyche auf unser Trading?\nWelche Perfor
 mance-Erwartungen mit welchem Aufwand sind realistisch?\nWäre es nicht be
 sser zur Kneipe\, bzw. Joggen oder Radfahren zu gehen?\n\nZur Person:\nNac
 h Studium und Promotion in Bereich Elektrotechnik und Computersysteme hat 
 Dr. Lolov als Softwareentwickler und selbständiger IT-Unternehmer gearbei
 tet. Seit mehr als 20 Jahren investiert er an der Börse und hat in dieser
  Zeit viele Tradingansätze auf Aktien\, ETFs\, Futures und Optionen angew
 endet. Zur Zeit handelt er ein Portfolio von automatisierten Handelsstrate
 gien auf Futures.
CATEGORIES:Düsseldorf
END:VEVENT
BEGIN:VTIMEZONE
TZID:Europe/Berlin
X-LIC-LOCATION:Europe/Berlin
BEGIN:DAYLIGHT
DTSTART:20250330T030000
TZOFFSETFROM:+0100
TZOFFSETTO:+0200
TZNAME:CEST
END:DAYLIGHT
END:VTIMEZONE
END:VCALENDAR