BEGIN:VCALENDAR
VERSION:2.0
PRODID:-//wp-events-plugin.com//7.2.3.1//EN
TZID:Europe/Berlin
X-WR-TIMEZONE:Europe/Berlin
BEGIN:VEVENT
UID:1008@vtad.de
DTSTART;TZID=Europe/Berlin:20250717T183000
DTEND;TZID=Europe/Berlin:20250717T203000
DTSTAMP:20250312T075142Z
URL:https://www.vtad.de/rgt/warum-traden-wir/
SUMMARY:Warum traden wir?
DESCRIPTION:Warum traden wir?\n\n 	Welche Ziele hat man beim Trading: einfa
 ch Spaß haben\, Vermögensaufbau\, Vermögenserhalt (Inflationsschutz)\, 
 Rentenlücke-Schließung\, Einkommen generieren?\n 	Wie erreicht man diese
  Ziele mit vertretbaren Aufwand?\n 	Welchen Einfluss hat die Psyche auf un
 ser Trading?\n 	Welche Performance-Erwartungen mit welchem Aufwand sind re
 alistisch?\n 	Wäre es nicht besser zur Kneipe\, bzw. Joggen oder Radfahre
 n zu gehen?\n\n&nbsp\;\n\nZur Person:\nNach Studium und Promotion in Bere
 ich Elektrotechnik und Computersysteme hat Herr Dr. Lolov als Softwareentw
 ickler und selbständiger IT-Unternehmer gearbeitet. Seit mehr als 20 Jahr
 en investiert er an der Börse und hat in dieser Zeit viele Tradingansätz
 e auf Aktien\, ETFs\, Futures und Optionen angewendet. Zur Zeit handelt er
  ein Portfolio von automatisierten Handelsstrategien auf Futures.
CATEGORIES:Stuttgart
LOCATION:Haus der Wirtschaft
X-APPLE-STRUCTURED-LOCATION;VALUE=URI;X-ADDRESS= Willi-Bleicher-Straße 19\
 , Stuttgart\, 71174\, Deutschland;X-APPLE-RADIUS=100;X-TITLE=Haus der Wirt
 schaft:geo:0,0
END:VEVENT
BEGIN:VTIMEZONE
TZID:Europe/Berlin
X-LIC-LOCATION:Europe/Berlin
BEGIN:DAYLIGHT
DTSTART:20250330T030000
TZOFFSETFROM:+0100
TZOFFSETTO:+0200
TZNAME:CEST
END:DAYLIGHT
END:VTIMEZONE
END:VCALENDAR