BEGIN:VCALENDAR
VERSION:2.0
PRODID:-//wp-events-plugin.com//7.2.3.1//EN
TZID:Europe/Berlin
X-WR-TIMEZONE:Europe/Berlin
BEGIN:VEVENT
UID:467@vtad.de
DTSTART;TZID=Europe/Berlin:20211209T183000
DTEND;TZID=Europe/Berlin:20211209T200000
DTSTAMP:20211129T071552Z
URL:https://www.vtad.de/rgt/weihnachtsfeier/
SUMMARY:abgesagt :-(
DESCRIPTION:
CATEGORIES:Stuttgart
LOCATION:Haus der Wirtschaft
X-APPLE-STRUCTURED-LOCATION;VALUE=URI;X-ADDRESS= Willi-Bleicher-Straße 19\
 , Stuttgart\, 71174\, Deutschland;X-APPLE-RADIUS=100;X-TITLE=Haus der Wirt
 schaft:geo:0,0
END:VEVENT
BEGIN:VTIMEZONE
TZID:Europe/Berlin
X-LIC-LOCATION:Europe/Berlin
BEGIN:STANDARD
DTSTART:20211031T020000
TZOFFSETFROM:+0200
TZOFFSETTO:+0100
TZNAME:CET
END:STANDARD
END:VTIMEZONE
END:VCALENDAR