BEGIN:VCALENDAR
VERSION:2.0
PRODID:-//wp-events-plugin.com//7.2.3.1//EN
TZID:Europe/Berlin
X-WR-TIMEZONE:Europe/Berlin
BEGIN:VEVENT
UID:425@vtad.de
DTSTART;TZID=Europe/Berlin:20211208T190000
DTEND;TZID=Europe/Berlin:20211208T190000
DTSTAMP:20211209T061846Z
URL:https://www.vtad.de/rgt/weihnachtstreffen-eine-bilanz-des-laufenden-un
 d-ausblick-auf-das-kommende-boersen-jahr-2/
SUMMARY:Weihnachtstreffen: Eine Bilanz des laufenden und Ausblick auf das
  kommende (Börsen-)Jahr
DESCRIPTION:Weihnachtstreffen_211208_3 gewagte Thesen für 2022\n\nUnserer 
 traditonelles Weihnachtstreffen mit Chartbetrachtungen nach Wunsch der Tei
 lnehmer und Marktausblick findet nach dem coranabedingten Ausfall im Vorja
 hr nun wieder im Brauhaus Füchschen statt. Als Gesprächsgrundlage wird e
 s einige Thesen zum Gesamtmarkt in ausgewählten Assets von meinem Stellve
 rtreter Dr. Oliver Reiß geben.\n\nAuch nicht ganz unwichtig:\n\nDa wir di
 e Kosten für den Tagungsraum im Hotel ja dieses Mal sparen ist es mir mö
 glich\, für jeden Teilnehmer die Getränke und je nachdem wie viele wir i
 nsgesamt sind auch das Essen zu übernehmen (nur für Mitglieder). Gäste 
 sind heute auch ohne Gästebeitrag herzlich willkommen und bekommen ein Be
 grüßungsgetränk.
CATEGORIES:Düsseldorf
END:VEVENT
BEGIN:VTIMEZONE
TZID:Europe/Berlin
X-LIC-LOCATION:Europe/Berlin
BEGIN:STANDARD
DTSTART:20211031T020000
TZOFFSETFROM:+0200
TZOFFSETTO:+0100
TZNAME:CET
END:STANDARD
END:VTIMEZONE
END:VCALENDAR