BEGIN:VCALENDAR
VERSION:2.0
PRODID:-//wp-events-plugin.com//7.2.3.1//EN
TZID:Europe/Berlin
X-WR-TIMEZONE:Europe/Berlin
BEGIN:VEVENT
UID:611@vtad.de
DTSTART;TZID=Europe/Berlin:20221205T190000
DTEND;TZID=Europe/Berlin:20221205T230000
DTSTAMP:20221206T145957Z
URL:https://www.vtad.de/rgt/weihnachtstreffen-eine-bilanz-des-laufenden-un
 d-ausblick-auf-das-kommende-boersen-jahr-3/
SUMMARY:Weihnachtstreffen: Eine Bilanz des laufenden und Ausblick auf das
  kommende (Börsen-)Jahr
DESCRIPTION:WO: Brauhaus Füchschen\, Ratinger Straße 28\, Düsseldorf\n\n
 WANN: 05.12.2022 19:00 h\n\nWAS: Weihnachtstreffen: Eine Bilanz des laufe
 nden und Ausblick auf das kommende (Börsen-)Jahr\n\n&nbsp\;\n\nUnserer t
 raditionelles Weihnachtstreffen mit Marktausblick und Chartbetrachtungen n
 ach Wunsch der Teilnehmer und findet wie üblich im Brauhaus Füchschen in
  der Altstadt statt. Als Gesprächsgrundlage wird es einige Thesen Weihnac
 htstreffen_221205_3 gewagte Thesen für 2023 zum Gesamtmarkt in ausgewähl
 ten Assets von meinem Stellvertreter Dr. Oliver Reiß geben.\n\n&nbsp\;\n\
 nAuch nicht ganz unwichtig:\n\nDa wir die Kosten für den Tagungsraum im H
 otel dieses Mal sparen ist es mir möglich\, für jeden Teilnehmer die Get
 ränke und auch ein kleines Essen zu übernehmen (nur für Mitglieder). G
 äste bleiben bitte fern und nutzen eine unserer regulären Veranstaltunge
 n im nächsten Jahr\, um uns kennenzulernen.
CATEGORIES:Düsseldorf
END:VEVENT
BEGIN:VTIMEZONE
TZID:Europe/Berlin
X-LIC-LOCATION:Europe/Berlin
BEGIN:STANDARD
DTSTART:20221030T020000
TZOFFSETFROM:+0200
TZOFFSETTO:+0100
TZNAME:CET
END:STANDARD
END:VTIMEZONE
END:VCALENDAR