BEGIN:VCALENDAR
VERSION:2.0
PRODID:-//wp-events-plugin.com//7.2.3.1//EN
TZID:Europe/Berlin
X-WR-TIMEZONE:Europe/Berlin
BEGIN:VEVENT
UID:758@vtad.de
DTSTART;TZID=Europe/Berlin:20231207T183000
DTEND;TZID=Europe/Berlin:20231207T183000
DTSTAMP:20231213T210234Z
URL:https://www.vtad.de/rgt/weihnachtstreffen-eine-bilanz-des-laufenden-un
 d-ausblick-auf-das-kommende-boersen-jahr-4/
SUMMARY:Weihnachtstreffen: Eine Bilanz des laufenden und Ausblick auf das k
 ommende (Börsen-)Jahr
DESCRIPTION:Unserer traditionelles Weihnachtstreffen mit Marktausblick und 
 Chartbetrachtungen nach Wunsch der Teilnehmer und findet wie üblich im Br
 auhaus Füchschen in der Altstadt statt. Als Gesprächsgrundlage wird es e
 inige Thesen zum Gesamtmarkt in ausgewählten Assets von meinem Stellvertr
 eter Dr. Oliver Reiß geben.\n\nAuch nicht ganz unwichtig:\n\nDa wir die K
 osten für den Tagungsraum im Hotel dieses Mal sparen ist es mir möglich\
 , für jeden Teilnehmer die Getränke und auch ein kleines Essen zu übern
 ehmen (nur für Mitglieder). Gäste bleiben heute bitte fern und nutzen ei
 ne unserer regulären Veranstaltungen im nächsten Jahr\, um uns kennenzul
 ernen.\n\nWeihnachtstreffen_231217_3 gewagte Thesen für 2024
CATEGORIES:Düsseldorf
END:VEVENT
BEGIN:VTIMEZONE
TZID:Europe/Berlin
X-LIC-LOCATION:Europe/Berlin
BEGIN:STANDARD
DTSTART:20231029T020000
TZOFFSETFROM:+0200
TZOFFSETTO:+0100
TZNAME:CET
END:STANDARD
END:VTIMEZONE
END:VCALENDAR