BEGIN:VCALENDAR
VERSION:2.0
PRODID:-//wp-events-plugin.com//7.2.3.1//EN
TZID:Europe/Berlin
X-WR-TIMEZONE:Europe/Berlin
BEGIN:VEVENT
UID:358@vtad.de
DTSTART;TZID=Europe/Berlin:20201210T190000
DTEND;TZID=Europe/Berlin:20201210T220000
DTSTAMP:20201101T112821Z
URL:https://www.vtad.de/rgt/weihnachtstreffen-eine-bilanz-des-laufenden-un
 d-ausblick-auf-das-kommende-boersen-jahr/
SUMMARY:Weihnachtstreffen: Eine Bilanz des laufenden und Ausblick auf das k
 ommende (Börsen-)Jahr - FÄLLT AUS wg. Shutdown No. 2
DESCRIPTION:WO: Brauhaus Füchschen\, Ratinger Straße 28\, Düsseldorf\n\n
 WANN: 10.12.2020 19:00 h\n\nWAS: Weihnachtstreffen: Eine Bilanz des laufe
 nden und Ausblick auf das kommende (Börsen-)Jahr\n\n&nbsp\;\n\n!GÄSTE k
 önnen coranabedingt heute nicht teilnehmen und müssen abgewiesen werden.
  Wenn ihr kein Mitglied\, aber neugierig seit und uns bisher noch nicht be
 sucht habt\, sucht euch bitte eine unserer regulären Vortragsveranstaltun
 gen aus und fordert einen Gutschein für einen kostenlosen Besuch im Vorfe
 ld bei mir per email unter rm.duesseldorf.de an. Danke für euer Verständ
 nis.\n\n&nbsp\;\n\nUnsere traditonelles Weihnachtstreffen mit Chartbetrach
 tungen und Marktausblicken nach Wunsch der Teilnehmer findet wie im Vorjah
 r im Brauhaus Füchschen statt. Wieder wird es wieder einige Thesen zum Ge
 samtmarkt in ausgewählten Assets von meinem Stellvertreter Dr. Oliver Rei
 ß und mir geben. Olivers Thesen für 2020 vom letzten Jahr sind hier Weih
 nachtstreffen_191203_3 gewagte Thesen für 2020 gepostet  - vielleicht ma
 g der eine oder andere mal abgleichen\, was daraus im Laufe des Jahres tat
 sächlich geworden ist.\n\n&nbsp\;\n\nAch ja\, auch nicht ganz unwichtig:\
 n\nDa wir die Kosten für den Tagungsraum im Hotel heute ja einsparen ist 
 es mir möglich\, für jeden Teilnehmer die Getränke und je nachdem wie v
 iele wir insgesamt sind auch ein kleines Essen zu übernehmen. Gästen ist
  einen Teilnahme wegen der begrenzten Platzzahl und anderer organisatorisc
 her Fragen am heutigen Abend leider nicht möglich.
CATEGORIES:Düsseldorf
END:VEVENT
BEGIN:VTIMEZONE
TZID:Europe/Berlin
X-LIC-LOCATION:Europe/Berlin
BEGIN:STANDARD
DTSTART:20201025T020000
TZOFFSETFROM:+0200
TZOFFSETTO:+0100
TZNAME:CET
END:STANDARD
END:VTIMEZONE
END:VCALENDAR