BEGIN:VCALENDAR
VERSION:2.0
PRODID:-//wp-events-plugin.com//7.2.3.1//EN
TZID:Europe/Berlin
X-WR-TIMEZONE:Europe/Berlin
BEGIN:VEVENT
UID:945@vtad.de
DTSTART;TZID=Europe/Berlin:20250716T181500
DTEND;TZID=Europe/Berlin:20250716T203000
DTSTAMP:20250718T095904Z
URL:https://www.vtad.de/rgt/wenn-das-grosse-sich-im-kleinen-spiegelt-finan
 zpsychologische-faktoren-die-mein-handeln-bestimmen-2/
SUMMARY:Wenn das Große sich im Kleinen spiegelt -finanzpsychologische Fakt
 oren\, die mein Handeln bestimmen
DESCRIPTION:Votragsunterlagen (bitte einloggen !): [members_logged_in] VTAD
 _Monika Müller_Große und Kleine_Jul25[/members_logged_in]\n\nVortragsthe
 ma:\nWenn das Große sich im Kleinen spiegelt - finanzpsychologische Fakto
 ren\, die mein Handeln bestimmen\nOb Familie\, Unternehmen oder Gesellscha
 ft\, wir sind eingebettet in eine Geld- und Risikokultur\, deren Wirkung u
 nser individuelles Handeln oft unbewusst beeinflusst und damit über Erfol
 g und Misserfolg bestimmt. In ihrem Vortrag geht unsere Referentin Monika 
 Müller auf alle drei Bereiche mit praktischen Beispielen ein. Die Teilneh
 mer haben Gelegenheit\, ihre persönlichen Erfolgsstrategien zu überprüf
 en.\nIhre Referentin:\n\nMonika Müller\,  Diplom-Psychologin und Master 
 Certified Coach (ICF) coacht Menschen seit mehr als 25 Jahren. Sie profiti
 ert dabei von ihrer psychologischen Ausbildung und ihrer langjährigen Erf
 ahrung aus der Arbeit mit Finanzdienstleistern.  Bei FCM arbeitet sie sei
 t 1999 als Finanzcoach. Sie ist spezialisiert auf Finanzpsychologie und Fi
 nanzcoaching mit dem Fokus auf den Einfluss psychologischer Faktoren auf d
 en Umgang mit Geld und Risiko bei Finanzentscheidungen. Zu ihren Kunden z
 ählen hauptsächlich Unternehmer\, Vorstände\, Fach- und Führungskräft
 e sowie Portfoliomanager von Banken und freien Finanzdienstleistern. Für 
 Trader bietet FCM ein Spezialseminar unter dem Titel "Persönliches Wachst
 um\, Erfolg und Geld" an.\n\nMonika Müller\, Geschäftsleitung\, FCM Fina
 nz Coaching\n
CATEGORIES:Nürnberg
LOCATION:eckstein haus der evang.-luth. kirche nürnberg
X-APPLE-STRUCTURED-LOCATION;VALUE=URI;X-ADDRESS=Burgstrasse 1-3\, Raum 1.01
 \, Nürnberg\, 90403 \, Bayern\, Deutschland;X-APPLE-RADIUS=100;X-TITLE=ec
 kstein haus der evang.-luth. kirche nürnberg:geo:0,0
END:VEVENT
BEGIN:VTIMEZONE
TZID:Europe/Berlin
X-LIC-LOCATION:Europe/Berlin
BEGIN:DAYLIGHT
DTSTART:20250330T030000
TZOFFSETFROM:+0100
TZOFFSETTO:+0200
TZNAME:CEST
END:DAYLIGHT
END:VTIMEZONE
END:VCALENDAR