BEGIN:VCALENDAR
VERSION:2.0
PRODID:-//wp-events-plugin.com//7.2.3.1//EN
TZID:Europe/Berlin
X-WR-TIMEZONE:Europe/Berlin
BEGIN:VEVENT
UID:923@vtad.de
DTSTART;TZID=Europe/Berlin:20250213T183000
DTEND;TZID=Europe/Berlin:20250213T210000
DTSTAMP:20250204T150859Z
URL:https://www.vtad.de/rgt/wie-erstelle-ich-ein-handelssystem/
SUMMARY:Wie erstelle ich ein Handelssystem?
DESCRIPTION:Die meisten Trader verlieren Geld - die meisten Trader haben ke
 ine richtige Strategie. Möchtest Du profitabel handeln\, solltest Du dahe
 r an Deiner Strategie arbeiten. Doch wie sollst Du vorgehen? Was ist wicht
 ig?\n\nIn diesem Vortrag zeigt Dir der professionelle Trader Marc Pötter 
 die Best Practices zur Strategieentwicklung. Sei dabei und erhalte eine Sc
 hritt-für-Schritt-Anleitung\, wie Du Deine eigene Strategie entwickelst.\
 n\nMarc Pötter ist Diplom-Kaufmann und zertifizierter Investmentanalyst 
 (CIIA + CEFA). An der Börse konzentriert er sich einerseits auf ein langf
 ristiges Aktiendepot und auf der anderen Seite auf den Intradayhandel vorw
 iegend im DAX und Dow Jones mit Hilfe der technischen Analyse.
CATEGORIES:Stuttgart
LOCATION:Haus der Wirtschaft
X-APPLE-STRUCTURED-LOCATION;VALUE=URI;X-ADDRESS= Willi-Bleicher-Straße 19\
 , Stuttgart\, 71174\, Deutschland;X-APPLE-RADIUS=100;X-TITLE=Haus der Wirt
 schaft:geo:0,0
END:VEVENT
BEGIN:VTIMEZONE
TZID:Europe/Berlin
X-LIC-LOCATION:Europe/Berlin
BEGIN:STANDARD
DTSTART:20241027T020000
TZOFFSETFROM:+0200
TZOFFSETTO:+0100
TZNAME:CET
END:STANDARD
END:VTIMEZONE
END:VCALENDAR