BEGIN:VCALENDAR
VERSION:2.0
PRODID:-//wp-events-plugin.com//7.2.3.1//EN
TZID:Europe/Berlin
X-WR-TIMEZONE:Europe/Berlin
BEGIN:VEVENT
UID:943@vtad.de
DTSTART;TZID=Europe/Berlin:20250515T183000
DTEND;TZID=Europe/Berlin:20250515T200000
DTSTAMP:20241202T210533Z
URL:https://www.vtad.de/rgt/wie-man-technologie-aktien-richtig-bewertet-un
 d-so-die-besten-finden-kann/
SUMMARY:Wie man Technologie-Aktien richtig bewertet und so die besten finde
 n kann!
DESCRIPTION:Amazon.com galt stets als (zu) teuer\, aber mit der Aktie konnt
 e man reich werden. Ähnlich sah es zuletzt bei Aktien wie Nvidia oder Pal
 antir aus. Daher schauen wir uns gemeinsam an\, wie man Technologie-Aktien
  richtig bewertet und so die besten Titel finden kann! \n\nSascha Huber\,
  Jahrgang 1978 und wohnhaft in Trier\, gilt als profunder Kenner der Hight
 echbranche. Als solcher erkannte er als einer der Ersten das große Potenz
 ial von Aktien wie Amazon.com\, Apple sowie zuletzt Facebook oder Tesla. Z
 wischen 2010 und 2014 arbeitete er als Chefredakteur eines Börsenbriefs\,
  der im Oktober 2014 übernommen wurde. Huber gilt zudem als erfahrener Ex
 perte in Sachen Kryptowährungen wie dem Bitcoin\, Ether und Ripple.
CATEGORIES:Stuttgart
LOCATION:Haus der Wirtschaft
X-APPLE-STRUCTURED-LOCATION;VALUE=URI;X-ADDRESS= Willi-Bleicher-Straße 19\
 , Stuttgart\, 71174\, Deutschland;X-APPLE-RADIUS=100;X-TITLE=Haus der Wirt
 schaft:geo:0,0
END:VEVENT
BEGIN:VTIMEZONE
TZID:Europe/Berlin
X-LIC-LOCATION:Europe/Berlin
BEGIN:DAYLIGHT
DTSTART:20250330T030000
TZOFFSETFROM:+0100
TZOFFSETTO:+0200
TZNAME:CEST
END:DAYLIGHT
END:VTIMEZONE
END:VCALENDAR