BEGIN:VCALENDAR
VERSION:2.0
PRODID:-//wp-events-plugin.com//7.2.3.1//EN
TZID:Europe/Berlin
X-WR-TIMEZONE:Europe/Berlin
BEGIN:VEVENT
UID:420@vtad.de
DTSTART;TZID=Europe/Berlin:20210722T190000
DTEND;TZID=Europe/Berlin:20210722T210000
DTSTAMP:20210713T143350Z
URL:https://www.vtad.de/rgt/wird-noch-bekannt-gegeben-11/
SUMMARY:Einfach richtig Geld verdienen mit Technischer Analyse und ein Hand
 elssystem zum Nachhandeln
DESCRIPTION:Christoph Geyer stellt sein Buch „Einfach richtig Geld verdie
 nen mit Technischer Analyse“ vor. Dabei versucht er sich an einer Art Au
 toren-Lesung\, was bei einem Fachbuch eine Herausforderung darstellt. Da e
 s sich nicht um eine klassische Lesung handeln wird\, wird es eine interes
 sante\, interaktive und ungewöhnliche Veranstaltung werden. Zudem wird er
  seine beliebte Live-Analyse mit aktuellen Charts halten. Als Abrundung de
 s Abends wird Geyer ein funktionierendes Handelssystem vorstellen. Dieses 
 handelt er tatsächlich\, er wird keine Blackbox präsentieren und den Ans
 atz verständlich erklären.\n\nChristoph Geyer ist seit über 40 Jahren i
 m Bankgeschäft tätig und analysiert Aktien\, Märkte und Rohstoffe auf t
 echnischer Basis. Als stellvertretender Regionalmanager der VTAD-Regionalg
 ruppe Frankfurt hat er im Jahr 2009 den Abschluss für Technische Analyste
 n (CFTe Certified Financial Technician) erlangt. Er ist Autor der Fachbüc
 her „Einfach richtig Geld verdienen mit Technischer Analyse“ und „Ei
 nfach richtig Geld verdienen mit MoneyManagement“. Sein nächstes Buch i
 st bereits in Vorbereitung. In der Commerzbank ist er für die Technische 
 Analyse im Privatkundengeschäft verantwortlich. Nach den beiden 3. Ränge
 n beim Technischen Analysten Award (für 2009+2010) der Börsenzeitung kon
 nte Geyer im Jahr 2011 den 1. Platz erreichen. Er ist Ausbilder für angeh
 ende Technische Analysten\, hält Vorträge\, Kundenveranstaltungen und Au
 sbildungsseminare. Er schreibt bei verschiedenen Online-Portalen regelmä
 ßig Kolumnen und ist auch in der Börsenzeitung vertreten. In der aktuell
 en Situation hält er auch verstärkt Online-Seminare. So besteht ein mona
 tliches Online-Angebot mit der Börse Düsseldorf (Chart-Show) und er betr
 eibt einen wöchentlichen YouTube-Kanal. Aktuelle Termine können Sie auf 
 seiner Homepage https://christophgeyer.de/ finden.\n\n&nbsp\;\n\n\n\nRegel
 ung für Gäste und Interessierte:\nSchnuppern ist mit vorheriger Anmeldun
 g kostenfrei und erst bei ab der zweiten Teilnahme werden 30 € Kostenbet
 eiligung berechnet. Die Gäste werden gebeten sich beim Regionalmanager pe
 r Email unter rm.berlin@vtad.de anzumelden\,  da die Plätze beschränkt 
 sind!\n\nGutscheine für eine einmalige kostenlose Teilnahme erhalten Sie 
 auf Börsentagen\, Messen oder auf schriftliche Anfrage beim Regionalmanag
 er.\nGäste ohne vorherige Anmeldung müssen leider abgewiesen werden!!!\n
 \n\n\nHygienekonzept\, Stand 13.07.2021:\n\nAuf Grund der Corona-Bestimmun
 gen des Landes Berlin gilt bis auf Weiteres folgende Regelung:\n\nBis zu e
 iner Teilnehmerzahl von 50 Personen ist kein Negativtest oder Dergleichen 
 erforderlich.\n\nJEDER Teilnehmer meldet sich vorher(min. 24 Stunden) beim
  Regionalleiter per Email an(mit vollständiger Adresse und Telefonnummer)
 .\n\nWer sich krank fühlt bleibt bitte zu Hause. Auf innige Begrüßungen
  sollte verzichtet werden.\n\n\nHinweis: Für diese Veranstaltung sind wir
  verpflichtet ein entsprechendes Hygienekonzept zu erstellen und umzusetze
 n.
CATEGORIES:Berlin
LOCATION:die Reha e.V.
X-APPLE-STRUCTURED-LOCATION;VALUE=URI;X-ADDRESS=Weydemeyerstr. 2/2a\, Berli
 n\, Berlin\, 10178\, Deutschland;X-APPLE-RADIUS=100;X-TITLE=die Reha e.V.:
 geo:0,0
END:VEVENT
BEGIN:VTIMEZONE
TZID:Europe/Berlin
X-LIC-LOCATION:Europe/Berlin
BEGIN:DAYLIGHT
DTSTART:20210328T030000
TZOFFSETFROM:+0100
TZOFFSETTO:+0200
TZNAME:CEST
END:DAYLIGHT
END:VTIMEZONE
END:VCALENDAR